BEGIN:VCALENDAR
VERSION:2.0
PRODID:-//St. Mark Lutheran Church - ECPv6.15.20//NONSGML v1.0//EN
CALSCALE:GREGORIAN
METHOD:PUBLISH
X-ORIGINAL-URL:https://stmarklutheran.org
X-WR-CALDESC:Events for St. Mark Lutheran Church
REFRESH-INTERVAL;VALUE=DURATION:PT1H
X-Robots-Tag:noindex
X-PUBLISHED-TTL:PT1H
BEGIN:VTIMEZONE
TZID:America/New_York
BEGIN:DAYLIGHT
TZOFFSETFROM:-0500
TZOFFSETTO:-0400
TZNAME:EDT
DTSTART:20240310T070000
END:DAYLIGHT
BEGIN:STANDARD
TZOFFSETFROM:-0400
TZOFFSETTO:-0500
TZNAME:EST
DTSTART:20241103T060000
END:STANDARD
BEGIN:DAYLIGHT
TZOFFSETFROM:-0500
TZOFFSETTO:-0400
TZNAME:EDT
DTSTART:20250309T070000
END:DAYLIGHT
BEGIN:STANDARD
TZOFFSETFROM:-0400
TZOFFSETTO:-0500
TZNAME:EST
DTSTART:20251102T060000
END:STANDARD
BEGIN:DAYLIGHT
TZOFFSETFROM:-0500
TZOFFSETTO:-0400
TZNAME:EDT
DTSTART:20260308T070000
END:DAYLIGHT
BEGIN:STANDARD
TZOFFSETFROM:-0400
TZOFFSETTO:-0500
TZNAME:EST
DTSTART:20261101T060000
END:STANDARD
END:VTIMEZONE
BEGIN:VEVENT
DTSTART;TZID=America/New_York:20251101T000000
DTEND;TZID=America/New_York:20251101T235959
DTSTAMP:20260420T045828
CREATED:20250402T170432Z
LAST-MODIFIED:20250402T170439Z
UID:10019209-1761955200-1762041599@stmarklutheran.org
SUMMARY:Social Ministry Committee Events
DESCRIPTION:November/December Social Ministry Committee EventSHE (Shelter for Help in Emergency) Tree (put up tree with cards)
URL:https://stmarklutheran.org/details/social-ministry-committee-events-7/
END:VEVENT
BEGIN:VEVENT
DTSTART;TZID=America/New_York:20251101T093000
DTEND;TZID=America/New_York:20251101T140000
DTSTAMP:20260420T045828
CREATED:20250304T184032Z
LAST-MODIFIED:20250304T184037Z
UID:10018279-1761989400-1762005600@stmarklutheran.org
SUMMARY:7th Day Adventist
DESCRIPTION:The 7th Day Adventist Group meets in the Chapel every Saturday at 9am and use the fellowship hall as well.
URL:https://stmarklutheran.org/details/7th-day-adventist-2/2025-11-01/
END:VEVENT
END:VCALENDAR