BEGIN:VCALENDAR
VERSION:2.0
PRODID:-//St. Mark Lutheran Church - ECPv6.15.20//NONSGML v1.0//EN
CALSCALE:GREGORIAN
METHOD:PUBLISH
X-WR-CALNAME:St. Mark Lutheran Church
X-ORIGINAL-URL:https://stmarklutheran.org
X-WR-CALDESC:Events for St. Mark Lutheran Church
REFRESH-INTERVAL;VALUE=DURATION:PT1H
X-Robots-Tag:noindex
X-PUBLISHED-TTL:PT1H
BEGIN:VTIMEZONE
TZID:America/New_York
BEGIN:DAYLIGHT
TZOFFSETFROM:-0500
TZOFFSETTO:-0400
TZNAME:EDT
DTSTART:20240310T070000
END:DAYLIGHT
BEGIN:STANDARD
TZOFFSETFROM:-0400
TZOFFSETTO:-0500
TZNAME:EST
DTSTART:20241103T060000
END:STANDARD
BEGIN:DAYLIGHT
TZOFFSETFROM:-0500
TZOFFSETTO:-0400
TZNAME:EDT
DTSTART:20250309T070000
END:DAYLIGHT
BEGIN:STANDARD
TZOFFSETFROM:-0400
TZOFFSETTO:-0500
TZNAME:EST
DTSTART:20251102T060000
END:STANDARD
BEGIN:DAYLIGHT
TZOFFSETFROM:-0500
TZOFFSETTO:-0400
TZNAME:EDT
DTSTART:20260308T070000
END:DAYLIGHT
BEGIN:STANDARD
TZOFFSETFROM:-0400
TZOFFSETTO:-0500
TZNAME:EST
DTSTART:20261101T060000
END:STANDARD
END:VTIMEZONE
BEGIN:VEVENT
DTSTART;TZID=America/New_York:20250724T123000
DTEND;TZID=America/New_York:20250724T133000
DTSTAMP:20260421T113957
CREATED:20240918T174627Z
LAST-MODIFIED:20240918T180011Z
UID:10017748-1753360200-1753363800@stmarklutheran.org
SUMMARY:SAA Subgroup
DESCRIPTION:An SAA subgroup meets at 12:30pm on Thursdays in Undercroft Room #3.
URL:https://stmarklutheran.org/details/saa-group-3/2025-07-24/
END:VEVENT
BEGIN:VEVENT
DTSTART;TZID=America/New_York:20250724T121500
DTEND;TZID=America/New_York:20250724T131500
DTSTAMP:20260421T113957
CREATED:20240918T171654Z
LAST-MODIFIED:20240918T172106Z
UID:10015716-1753359300-1753362900@stmarklutheran.org
SUMMARY:New Life
DESCRIPTION:Join the New Life group at 12:15pm in Undercroft Room #1.
URL:https://stmarklutheran.org/details/82465/2025-07-24/
END:VEVENT
BEGIN:VEVENT
DTSTART;TZID=America/New_York:20250724T063000
DTEND;TZID=America/New_York:20250724T073000
DTSTAMP:20260421T113957
CREATED:20240523T171113Z
LAST-MODIFIED:20260310T155401Z
UID:10014585-1753338600-1753342200@stmarklutheran.org
SUMMARY:SA Group
DESCRIPTION:Join the SA group at 6:30am on Thursdays in Undercroft Room #1.
URL:https://stmarklutheran.org/details/sa-group/2025-07-24/
CATEGORIES:Community groups
END:VEVENT
BEGIN:VEVENT
DTSTART;TZID=America/New_York:20250722T121500
DTEND;TZID=America/New_York:20250722T131500
DTSTAMP:20260421T113957
CREATED:20240918T171654Z
LAST-MODIFIED:20240918T172106Z
UID:10015715-1753186500-1753190100@stmarklutheran.org
SUMMARY:New Life
DESCRIPTION:Join the New Life group at 12:15pm in Undercroft Room #1.
URL:https://stmarklutheran.org/details/82465/2025-07-22/
END:VEVENT
BEGIN:VEVENT
DTSTART;TZID=America/New_York:20250721T121500
DTEND;TZID=America/New_York:20250721T131500
DTSTAMP:20260421T113957
CREATED:20240918T171654Z
LAST-MODIFIED:20240918T172106Z
UID:10015714-1753100100-1753103700@stmarklutheran.org
SUMMARY:New Life
DESCRIPTION:Join the New Life group at 12:15pm in Undercroft Room #1.
URL:https://stmarklutheran.org/details/82465/2025-07-21/
END:VEVENT
END:VCALENDAR